BEGIN:VCALENDAR
VERSION:2.0
PRODID:-//Kunterbunt Autismus Main-Kinzig-Kreis - ECPv6.15.20//NONSGML v1.0//EN
CALSCALE:GREGORIAN
METHOD:PUBLISH
X-WR-CALNAME:Kunterbunt Autismus Main-Kinzig-Kreis
X-ORIGINAL-URL:https://www.autismus-mkk.de
X-WR-CALDESC:Veranstaltungen für Kunterbunt Autismus Main-Kinzig-Kreis
REFRESH-INTERVAL;VALUE=DURATION:PT1H
X-Robots-Tag:noindex
X-PUBLISHED-TTL:PT1H
BEGIN:VTIMEZONE
TZID:Europe/Berlin
BEGIN:DAYLIGHT
TZOFFSETFROM:+0100
TZOFFSETTO:+0200
TZNAME:CEST
DTSTART:20180325T010000
END:DAYLIGHT
BEGIN:STANDARD
TZOFFSETFROM:+0200
TZOFFSETTO:+0100
TZNAME:CET
DTSTART:20181028T010000
END:STANDARD
BEGIN:DAYLIGHT
TZOFFSETFROM:+0100
TZOFFSETTO:+0200
TZNAME:CEST
DTSTART:20190331T010000
END:DAYLIGHT
BEGIN:STANDARD
TZOFFSETFROM:+0200
TZOFFSETTO:+0100
TZNAME:CET
DTSTART:20191027T010000
END:STANDARD
BEGIN:DAYLIGHT
TZOFFSETFROM:+0100
TZOFFSETTO:+0200
TZNAME:CEST
DTSTART:20200329T010000
END:DAYLIGHT
BEGIN:STANDARD
TZOFFSETFROM:+0200
TZOFFSETTO:+0100
TZNAME:CET
DTSTART:20201025T010000
END:STANDARD
END:VTIMEZONE
BEGIN:VEVENT
DTSTART;TZID=Europe/Berlin:20190126T100000
DTEND;TZID=Europe/Berlin:20190126T170000
DTSTAMP:20260420T151947
CREATED:20181223T085539Z
LAST-MODIFIED:20260324T164304Z
UID:125-1548496800-1548522000@www.autismus-mkk.de
SUMMARY:12. Bad Sodener Gesundheitstage
DESCRIPTION:Lernen Sie uns kennen – Informieren Sie sich\nAm 26. und 27. Januar 2019 finden in der Spessart-Therme in Bad Soden-Salmünster die 12. Bad Sodener Gesundheitstage statt. Unsere Selbsthilfegruppe wird sich während dieser Veranstaltung mit einem Informationsstand präsentieren. Sprechen Sie uns gerne an – wir freuen uns\, Sie kennenzulernen.
URL:https://www.autismus-mkk.de/event/12-bad-sodener-gesundheitstage/
LOCATION:Spessart-Therme
CATEGORIES:Gesundheitsmesse
END:VEVENT
END:VCALENDAR